BEGIN:VCALENDAR
VERSION:2.0
PRODID:-//Australian Institute of Architects - ECPv6.15.12.2//NONSGML v1.0//EN
CALSCALE:GREGORIAN
METHOD:PUBLISH
X-ORIGINAL-URL:https://www.architecture.com.au
X-WR-CALDESC:Events for Australian Institute of Architects
REFRESH-INTERVAL;VALUE=DURATION:PT1H
X-Robots-Tag:noindex
X-PUBLISHED-TTL:PT1H
BEGIN:VTIMEZONE
TZID:Australia/Melbourne
BEGIN:STANDARD
TZOFFSETFROM:+1100
TZOFFSETTO:+1000
TZNAME:AEST
DTSTART:20250405T160000
END:STANDARD
BEGIN:DAYLIGHT
TZOFFSETFROM:+1000
TZOFFSETTO:+1100
TZNAME:AEDT
DTSTART:20251004T160000
END:DAYLIGHT
BEGIN:STANDARD
TZOFFSETFROM:+1100
TZOFFSETTO:+1000
TZNAME:AEST
DTSTART:20260404T160000
END:STANDARD
BEGIN:DAYLIGHT
TZOFFSETFROM:+1000
TZOFFSETTO:+1100
TZNAME:AEDT
DTSTART:20261003T160000
END:DAYLIGHT
BEGIN:STANDARD
TZOFFSETFROM:+1100
TZOFFSETTO:+1000
TZNAME:AEST
DTSTART:20270403T160000
END:STANDARD
BEGIN:DAYLIGHT
TZOFFSETFROM:+1000
TZOFFSETTO:+1100
TZNAME:AEDT
DTSTART:20271002T160000
END:DAYLIGHT
END:VTIMEZONE
BEGIN:VTIMEZONE
TZID:Australia/Adelaide
BEGIN:STANDARD
TZOFFSETFROM:+1030
TZOFFSETTO:+0930
TZNAME:ACST
DTSTART:20250405T163000
END:STANDARD
BEGIN:DAYLIGHT
TZOFFSETFROM:+0930
TZOFFSETTO:+1030
TZNAME:ACDT
DTSTART:20251004T163000
END:DAYLIGHT
BEGIN:STANDARD
TZOFFSETFROM:+1030
TZOFFSETTO:+0930
TZNAME:ACST
DTSTART:20260404T163000
END:STANDARD
BEGIN:DAYLIGHT
TZOFFSETFROM:+0930
TZOFFSETTO:+1030
TZNAME:ACDT
DTSTART:20261003T163000
END:DAYLIGHT
BEGIN:STANDARD
TZOFFSETFROM:+1030
TZOFFSETTO:+0930
TZNAME:ACST
DTSTART:20270403T163000
END:STANDARD
BEGIN:DAYLIGHT
TZOFFSETFROM:+0930
TZOFFSETTO:+1030
TZNAME:ACDT
DTSTART:20271002T163000
END:DAYLIGHT
END:VTIMEZONE
BEGIN:VTIMEZONE
TZID:Australia/Eucla
BEGIN:STANDARD
TZOFFSETFROM:+0845
TZOFFSETTO:+0845
TZNAME:+0845
DTSTART:20250101T000000
END:STANDARD
END:VTIMEZONE
BEGIN:VEVENT
DTSTART;TZID=Australia/Melbourne:20260421T130000
DTEND;TZID=Australia/Melbourne:20260519T140000
DTSTAMP:20260424T123630
CREATED:20260421T003129Z
LAST-MODIFIED:20260421T003129Z
UID:202325-1776776400-1779199200@www.architecture.com.au
SUMMARY:Leadership in Practice | Formal CPD Series
DESCRIPTION:Leadership in Practice is a practical webinar series for architects and forward-thinking practitioners who want stronger leadership and better commercial outcomes – without compromising design integrity. Across four focused sessions\, participants will connect personal values to life-first goals and develop the mindset required to lead well under pressure. This includes learning decision tools to reduce overload\, protect what matters during busy periods\, and build simple resilience habits for individuals and practices.
URL:https://www.architecture.com.au/event/leadership-in-practice-formal-cpd-series
CATEGORIES:CPD Events (Online),Online Event
ATTACH;FMTTYPE=image/jpeg:https://www.architecture.com.au/wp-content/uploads/pexels-scottwebb-305833-205.jpg
END:VEVENT
BEGIN:VEVENT
DTSTART;TZID=Australia/Melbourne:20260501T180000
DTEND;TZID=Australia/Melbourne:20260501T220000
DTSTAMP:20260424T123630
CREATED:20260420T003421Z
LAST-MODIFIED:20260420T003421Z
UID:204579-1777658400-1777672800@www.architecture.com.au
SUMMARY:2026 GREATER BRISBANE REGIONAL AWARDS
DESCRIPTION:Join us at the Rose Room\, Cloudland to celebrate the 2026 Greater Brisbane Regional Awards! Raise a glass to the best architecture Greater Brisbane has to offer as we come together to recognise the incredible work shaping our city.
URL:https://www.architecture.com.au/event/2026-greater-brisbane-regional-awards
CATEGORIES:Awards,Networking
ATTACH;FMTTYPE=image/jpeg:https://www.architecture.com.au/wp-content/uploads/gbne-event-lock-up-21.jpg
END:VEVENT
BEGIN:VEVENT
DTSTART;TZID=Australia/Adelaide:20260505T123000
DTEND;TZID=Australia/Adelaide:20260505T133000
DTSTAMP:20260424T123630
CREATED:20260424T003043Z
LAST-MODIFIED:20260424T003043Z
UID:216300-1777984200-1777987800@www.architecture.com.au
SUMMARY:Archi-bubs In-Studio: A Dad’s Perspective
DESCRIPTION:An informal panel session over lunch with Grieve Gillett Architects to discuss parents in architecture with special focus on a father’s perspective.
URL:https://www.architecture.com.au/event/archi-bubs-in-studio-a-dads-perspective
CATEGORIES:EmAGN,Networking
ATTACH;FMTTYPE=image/jpeg:https://www.architecture.com.au/wp-content/uploads/2026_archi-bubs-gga_post-01-17.jpg
END:VEVENT
BEGIN:VEVENT
DTSTART;TZID=Australia/Melbourne:20260505T123000
DTEND;TZID=Australia/Melbourne:20260505T130000
DTSTAMP:20260424T123630
CREATED:20260424T003112Z
LAST-MODIFIED:20260424T003112Z
UID:216303-1777984200-1777986000@www.architecture.com.au
SUMMARY:EmAGN x SONA Sustainability Snacks | The Australian Zero Carbon Housing Challenge | Part 1
DESCRIPTION:Sustainability Snacks is a series of short online sessions that aim to demystify sustainability in practice. In just 30 minutes\, we will hear from a practitioner on how they are reducing their impact.  Join us for our next Sustainability Snack on Tuesday 5 May\, where our first sustainability snack will provide an overview on the importance of carbon modelling in the design phase of residential projects and how you can get involved by modelling your own low to medium density projects. We’ll show you where to find all the important info to help you get started and join architects from all around the country who are making a difference by reducing upfront carbon and life cycle operating energy in buildings.
URL:https://www.architecture.com.au/event/emagn-x-sona-sustainability-snacks-the-australian-zero-carbon-housing-challenge-part-1
CATEGORIES:EmAGN,Networking,Online Event,SONA
ATTACH;FMTTYPE=image/jpeg:https://www.architecture.com.au/wp-content/uploads/azchc-logo-inverted-17.jpg
END:VEVENT
BEGIN:VEVENT
DTSTART;TZID=Australia/Eucla:20260505T173000
DTEND;TZID=Australia/Eucla:20260505T193000
DTSTAMP:20260424T123630
CREATED:20260412T053817Z
LAST-MODIFIED:20260412T053817Z
UID:216071-1778002200-1778009400@www.architecture.com.au
SUMMARY:Opening of WA Architecture Awards Exhibition of Entries
DESCRIPTION:Celebrate the official opening of the 2026 WA Architecture Awards Exhibition of Entries!
URL:https://www.architecture.com.au/event/opening-of-wa-architecture-awards-exhibition-of-entries-2
CATEGORIES:Awards,Networking
ATTACH;FMTTYPE=image/jpeg:https://www.architecture.com.au/wp-content/uploads/wa260505.jpg
END:VEVENT
BEGIN:VEVENT
DTSTART;TZID=Australia/Melbourne:20260506T173000
DTEND;TZID=Australia/Melbourne:20260506T220000
DTSTAMP:20260424T123630
CREATED:20260417T003102Z
LAST-MODIFIED:20260417T003102Z
UID:215746-1778088600-1778104800@www.architecture.com.au
SUMMARY:EmAGN x PIA Cross Industry Catch-Up
DESCRIPTION:Join us for a relaxed evening with EmAGN & PIA professionals on Wednesday 6 May from 5:30 PM
URL:https://www.architecture.com.au/event/emagn-x-pia-cross-industry-catch-up
CATEGORIES:EmAGN,Networking,SONA
ATTACH;FMTTYPE=image/jpeg:https://www.architecture.com.au/wp-content/uploads/emagn-x-pia-17.jpg
END:VEVENT
BEGIN:VEVENT
DTSTART;TZID=Australia/Melbourne:20260506T173000
DTEND;TZID=Australia/Melbourne:20260506T220000
DTSTAMP:20260424T123630
CREATED:20260424T003029Z
LAST-MODIFIED:20260424T003030Z
UID:216712-1778088600-1778104800@www.architecture.com.au
SUMMARY:EmAGN x PIA Cross Industry Catch-Up
DESCRIPTION:Join us for a relaxed evening with EmAGN & PIA professionals on Wednesday 6 May from 5:30 PM
URL:https://www.architecture.com.au/event/emagn-x-pia-cross-industry-catch-up-2
CATEGORIES:EmAGN,Networking,SONA
ATTACH;FMTTYPE=image/jpeg:https://www.architecture.com.au/wp-content/uploads/emagn-x-pia-31.jpg
END:VEVENT
BEGIN:VEVENT
DTSTART;TZID=Australia/Melbourne:20260506T180000
DTEND;TZID=Australia/Melbourne:20260506T200000
DTSTAMP:20260424T123630
CREATED:20260422T215245Z
LAST-MODIFIED:20260422T215246Z
UID:216955-1778090400-1778097600@www.architecture.com.au
SUMMARY:EmAGN Forum: Mental Well-being in Architecture
DESCRIPTION:What does it mean to sustain a career in architecture today? This forum explores the growing challenges of mental well-being within the professions\, focussing on the realities of unpredictable work cycles and fluctuating project pipelines. As architects navigate career progression amid uncertainty where effort and reward are often at odds.
URL:https://www.architecture.com.au/event/emagn-forum-mental-well-being-in-architecture
CATEGORIES:EmAGN,Networking,SONA
ATTACH;FMTTYPE=image/jpeg:https://www.architecture.com.au/wp-content/uploads/emagn-event-banner-forum-mental-wellbeing-in-architecture-6.5.26.jpg
END:VEVENT
BEGIN:VEVENT
DTSTART;TZID=Australia/Melbourne:20260506T183000
DTEND;TZID=Australia/Melbourne:20260506T200000
DTSTAMP:20260424T123630
CREATED:20260420T003427Z
LAST-MODIFIED:20260420T003427Z
UID:215161-1778092200-1778097600@www.architecture.com.au
SUMMARY:Success in Architectural Practice with Dr Mark Jones
DESCRIPTION:Dr Mark Jones LFRAIA is a highly regarded Australian architect whose career integrates Director roles in small and large practice\, institutional leadership\, and advanced academic teaching and research at the University of Queensland\, School of Architecture\, Design and Planning. Mark’s new book\, ‘Success in Architectural Practice’ sets out the simple\, yet profound proposition that genuine success as an architect is founded on three mutually reinforcing pillars: Excellence\, Happiness and Profit. This notion is presented as a practical\, evidence-based framework drawn from the author’s own experience\, management theory\, and the lived experience of over forty highly respected architects from across Australia and New Zealand. The book is structured around four headings: Foundations\, Positioning\, Finances and Management. Mark will present the findings of his research into successful architectural practice\, with some focus on the Finance section. The event will be opened by Professor Ali Cheshmehzangi\, Dean and Head of School University of Queensland\, School of Architecture\, Design and Planning. Peter Dawson\, Industry Fellow at UQ\, will Chair the event.
URL:https://www.architecture.com.au/event/success-in-architectural-practice-with-dr-mark-jones
CATEGORIES:CPD Events (Face-to-face),Networking
ATTACH;FMTTYPE=image/jpeg:https://www.architecture.com.au/wp-content/uploads/untitled-design-3-3-17.jpg
END:VEVENT
BEGIN:VEVENT
DTSTART;TZID=Australia/Melbourne:20260513T130000
DTEND;TZID=Australia/Melbourne:20260513T140000
DTSTAMP:20260424T123630
CREATED:20260424T003104Z
LAST-MODIFIED:20260424T003104Z
UID:215956-1778677200-1778680800@www.architecture.com.au
SUMMARY:NCC 2025 Update
DESCRIPTION:The session will outline the main changes to National Construction Code with NCC 2025\, which includes several updates intended to improve safety\, performance and usability across the built environment.
URL:https://www.architecture.com.au/event/ncc-2025-update
CATEGORIES:CPD Events (Online),Online Event
ATTACH;FMTTYPE=image/jpeg:https://www.architecture.com.au/wp-content/uploads/pexels-fillthyphoto-5771741-27.jpg
END:VEVENT
BEGIN:VEVENT
DTSTART;TZID=Australia/Melbourne:20260513T133000
DTEND;TZID=Australia/Melbourne:20260513T173000
DTSTAMP:20260424T123630
CREATED:20260424T003059Z
LAST-MODIFIED:20260424T003059Z
UID:216655-1778679000-1778693400@www.architecture.com.au
SUMMARY:2026 Annual General Meeting
DESCRIPTION:
URL:https://www.architecture.com.au/event/2026-annual-general-meeting
CATEGORIES:Prizes
ATTACH;FMTTYPE=image/jpeg:https://www.architecture.com.au/wp-content/uploads/agm-14-16.jpg
END:VEVENT
BEGIN:VEVENT
DTSTART;TZID=Australia/Melbourne:20260515T103000
DTEND;TZID=Australia/Melbourne:20260515T150000
DTSTAMP:20260424T123630
CREATED:20260420T003436Z
LAST-MODIFIED:20260420T003437Z
UID:215751-1778841000-1778857200@www.architecture.com.au
SUMMARY:Townsville CPD Extravaganza
DESCRIPTION:The Townsville CPD Extravaganza brings together an afternoon of practical learning\, industry insight and professional development for architects and built environment professionals. Across four one-hour sessions\, hear from leading presenters on smart building solutions for Australian conditions\, including insulated sandwich panels and cool roofing\, alongside essential guidance on success in architectural practice and managing documentation risk. With a light lunch and refreshments provided\, this is a valuable opportunity to build knowledge\, gain CPD points and connect with peers in Townsville.
URL:https://www.architecture.com.au/event/success-in-architectural-practice-with-dr-mark-jones-townsville
CATEGORIES:CPD Events (Face-to-face),Networking
ATTACH;FMTTYPE=image/jpeg:https://www.architecture.com.au/wp-content/uploads/townsville-small-file-1.jpg
END:VEVENT
BEGIN:VEVENT
DTSTART;TZID=Australia/Melbourne:20260515T180000
DTEND;TZID=Australia/Melbourne:20260515T220000
DTSTAMP:20260424T123630
CREATED:20260420T003446Z
LAST-MODIFIED:20260420T003446Z
UID:215754-1778868000-1778882400@www.architecture.com.au
SUMMARY:2026 DARLING DOWNS & WEST MORETON REGIONAL AWARDS
DESCRIPTION:Join us at Fitzy’s to celebrate the 2026 Darling Downs and West Moreton Regional Awards! Raise a glass to the best architecture the region has to offer as we come together to recognise the incredible work shaping our community.
URL:https://www.architecture.com.au/event/2026-darling-downs-west-moreton-regional-awards
CATEGORIES:Awards,Networking
ATTACH;FMTTYPE=image/jpeg:https://www.architecture.com.au/wp-content/uploads/ddwm-lock-up-4.jpg
END:VEVENT
BEGIN:VEVENT
DTSTART;TZID=Australia/Melbourne:20260515T180000
DTEND;TZID=Australia/Melbourne:20260515T220000
DTSTAMP:20260424T123630
CREATED:20260420T003452Z
LAST-MODIFIED:20260420T003452Z
UID:215757-1778868000-1778882400@www.architecture.com.au
SUMMARY:2026 NORTH QUEENSLAND REGIONAL AWARDS
DESCRIPTION:Join us at Tiny Mountain to celebrate the 2026 North Queensland Regional Awards! Raise a glass to the best architecture the region has to offer as we come together to recognise the incredible work shaping our community.
URL:https://www.architecture.com.au/event/2026-north-queensland-regional-awards
CATEGORIES:Awards,Networking
ATTACH;FMTTYPE=image/jpeg:https://www.architecture.com.au/wp-content/uploads/nq-lock-up-4.jpg
END:VEVENT
BEGIN:VEVENT
DTSTART;TZID=Australia/Melbourne:20260519T180000
DTEND;TZID=Australia/Melbourne:20260519T200000
DTSTAMP:20260424T123630
CREATED:20260420T003350Z
LAST-MODIFIED:20260420T003350Z
UID:216774-1779213600-1779220800@www.architecture.com.au
SUMMARY:Regional Chats Newcastle | Anthrosite and Muci
DESCRIPTION:Our next Regional Chat event in Newcastle will include presentations from Dana Hutchinson and Mark Spence of Anthrosite and Steani Cilliers and Chris Mullaney of Muci. These events are a chance to discuss ideas and connect with other peers in the industry.
URL:https://www.architecture.com.au/event/regional-chats-newcastle-anthrosite-and-muci
CATEGORIES:Awards,Networking
ATTACH;FMTTYPE=image/jpeg:https://www.architecture.com.au/wp-content/uploads/regional-chats_muci_01-clay-house.jpg
END:VEVENT
BEGIN:VEVENT
DTSTART;TZID=Australia/Melbourne:20260521T180000
DTEND;TZID=Australia/Melbourne:20260521T193000
DTSTAMP:20260424T123630
CREATED:20260420T003623Z
LAST-MODIFIED:20260420T003623Z
UID:216056-1779386400-1779391800@www.architecture.com.au
SUMMARY:2026 Tasmanian Architecture Awards Exhibition | Hobart
DESCRIPTION:Join us for the launch of the 2026 Tasmanian Architecture Awards Exhibition at Brooke Street Pier in Hobart! View all the entries in the 2026 Tasmanian Architecture Awards and celebrate with colleagues.
URL:https://www.architecture.com.au/event/2026-tasmanian-architecture-awards-exhibition-hobart
CATEGORIES:Awards
ATTACH;FMTTYPE=image/jpeg:https://www.architecture.com.au/wp-content/uploads/NinaHamilton-TasmanianPhotographer-2019AIAAwardsExhibition-LowRes-49-531.jpg
END:VEVENT
BEGIN:VEVENT
DTSTART;TZID=Australia/Melbourne:20260521T183000
DTEND;TZID=Australia/Melbourne:20260521T193000
DTSTAMP:20260424T123630
CREATED:20260420T003458Z
LAST-MODIFIED:20260420T003458Z
UID:216736-1779388200-1779391800@www.architecture.com.au
SUMMARY:Regi/fru/stration - Mock Interview Face-to-Face
DESCRIPTION:In preparation for the APE interview\, EmAGN QLD are once again organising Mock Interview sessions for candidates\, learning from our volunteer registered architect mentors; learn from their experience and strategies\, gain insight on what to expect on the day\, and test out your ability articulating responses to some curly questions. This event is run in person\, and this year will be held after work. If you are not in Brisbane or can’t make the in-person session\, we are also running an online event (note the different time and date!) – you can  register here. Please sign up for one session only – either the Online or Face-to-Face Mock Interviews. All the advice given is based on our volunteers’ individual experiences and shouldn’t be relied upon.  Please refer back to the BOAQ/AACA advice as your source of truth\, and the PALs modules/team for Institute-prepared and -endorsed material.
URL:https://www.architecture.com.au/event/regi-fru-stration-mock-interview-face-to-face-2
CATEGORIES:EmAGN
ATTACH;FMTTYPE=image/jpeg:https://www.architecture.com.au/wp-content/uploads/emagn_mock-interview-f2f_website-1.jpg
END:VEVENT
BEGIN:VEVENT
DTSTART;TZID=Australia/Melbourne:20260522T163000
DTEND;TZID=Australia/Melbourne:20260522T193000
DTSTAMP:20260424T123630
CREATED:20260420T003502Z
LAST-MODIFIED:20260420T003502Z
UID:216739-1779467400-1779478200@www.architecture.com.au
SUMMARY:2026 CENTRAL QUEENSLAND REGIONAL AWARDS
DESCRIPTION:Join us at the East Hall\, Rockhampton to celebrate the 2026 Central Queensland Regional Awards! Raise a glass to the best architecture the region has to offer as we come together to recognise the incredible work shaping our community.
URL:https://www.architecture.com.au/event/2026-central-queensland-regional-awards
CATEGORIES:Awards,Networking
ATTACH;FMTTYPE=image/jpeg:https://www.architecture.com.au/wp-content/uploads/cq-awards-banner-1.jpg
END:VEVENT
BEGIN:VEVENT
DTSTART;TZID=Australia/Melbourne:20260522T180000
DTEND;TZID=Australia/Melbourne:20260522T220000
DTSTAMP:20260424T123630
CREATED:20260420T003408Z
LAST-MODIFIED:20260420T003409Z
UID:204573-1779472800-1779487200@www.architecture.com.au
SUMMARY:2026 GOLD COAST/NORTHERN RIVERS REGIONAL AWARDS
DESCRIPTION:Join us at the Mondrian Gold Coast to celebrate the 2026 Gold Coast/Northern Rivers Regional Awards! Raise a glass to the best architecture the Gold Coast and Northern Rivers has to offer as we come together to recognise the incredible work shaping our region.
URL:https://www.architecture.com.au/event/2026-gold-coast-northern-rivers-regional-awards
CATEGORIES:Awards,Networking
ATTACH;FMTTYPE=image/jpeg:https://www.architecture.com.au/wp-content/uploads/gcnr-event-lock-up-22.jpg
END:VEVENT
BEGIN:VEVENT
DTSTART;TZID=Australia/Melbourne:20260523T140000
DTEND;TZID=Australia/Melbourne:20260523T170000
DTSTAMP:20260424T123630
CREATED:20260412T053720Z
LAST-MODIFIED:20260412T053720Z
UID:216065-1779544800-1779555600@www.architecture.com.au
SUMMARY:Melbourne Design Week - Building Together: Public Architecture and the Future of Practice
DESCRIPTION:A curated walking tour through Collingwood exploring how adaptive reuse\, creative practice and public-facing design are shaping new models of architecture.  The tour will visit a series of projects and studios\, concluding with a panel discussion featuring contributors involved in the development and occupation of these spaces.
URL:https://www.architecture.com.au/event/melbourne-design-week-building-together-public-architecture-and-the-future-of-practice
CATEGORIES:EmAGN,Networking,SONA
ATTACH;FMTTYPE=image/jpeg:https://www.architecture.com.au/wp-content/uploads/collingwood-yard-pic-peter-clarke-6x4-1.jpg
END:VEVENT
BEGIN:VEVENT
DTSTART;TZID=Australia/Melbourne:20260528T183000
DTEND;TZID=Australia/Melbourne:20260528T203000
DTSTAMP:20260424T123630
CREATED:20260412T053733Z
LAST-MODIFIED:20260412T053734Z
UID:216068-1779993000-1780000200@www.architecture.com.au
SUMMARY:EmAGN Mentor Me - Geelong
DESCRIPTION:Looking for advice on career progression\, portfolios\, registration\, or your next steps in practice? Join us for Geelong’s first mentoring event of the year.  This event is designed to connect early-career graduates with experienced professionals in a relaxed\, no-pressure environment. Run in a speed-mentoring format\, attendees will rotate through a series of short conversations with different mentors throughout the evening\, giving them the chance to gain valuable insights\, ask questions\, make connections\, and hear a range of perspectives all in one night.
URL:https://www.architecture.com.au/event/emagn-mentor-me-geelong
CATEGORIES:EmAGN,Networking
ATTACH;FMTTYPE=image/jpeg:https://www.architecture.com.au/wp-content/uploads/emagn-mentor-me-geelong-28.5.26.jpg
END:VEVENT
BEGIN:VEVENT
DTSTART;TZID=Australia/Melbourne:20260529T173000
DTEND;TZID=Australia/Melbourne:20260529T213000
DTSTAMP:20260424T123630
CREATED:20260420T003516Z
LAST-MODIFIED:20260420T003516Z
UID:216777-1780075800-1780090200@www.architecture.com.au
SUMMARY:2026 SUNSHINE COAST REGIONAL AWARDS
DESCRIPTION:Join us at Library+ Caloundra to celebrate the 2026Sunshine Coast Regional Awards! Raise a glass to the best architecture the Sunshine Coast has to offer as we come together to recognise the incredible work shaping our region.
URL:https://www.architecture.com.au/event/2026-sunshine-coast-regional-awards
CATEGORIES:Awards,Networking
ATTACH;FMTTYPE=image/jpeg:https://www.architecture.com.au/wp-content/uploads/sc-lock-up.jpg
END:VEVENT
BEGIN:VEVENT
DTSTART;TZID=Australia/Melbourne:20260529T180000
DTEND;TZID=Australia/Melbourne:20260529T220000
DTSTAMP:20260424T123630
CREATED:20260420T003508Z
LAST-MODIFIED:20260420T003508Z
UID:216742-1780077600-1780092000@www.architecture.com.au
SUMMARY:2026 FAR NORTH QUEENSLAND REGIONAL AWARDS
DESCRIPTION:Join us at Hemingway’s Brewery to celebrate the 2026 Far North Queensland Regional Awards! Raise a glass to the best architecture the region has to offer as we come together to recognise the incredible work shaping our community.
URL:https://www.architecture.com.au/event/2026-far-north-queensland-regional-awards
CATEGORIES:Awards,Networking
ATTACH;FMTTYPE=image/jpeg:https://www.architecture.com.au/wp-content/uploads/fnq-lock-up-1.jpg
END:VEVENT
BEGIN:VEVENT
DTSTART;TZID=Australia/Adelaide:20260604T173000
DTEND;TZID=Australia/Adelaide:20260604T193000
DTSTAMP:20260424T123630
CREATED:20260420T003607Z
LAST-MODIFIED:20260420T003608Z
UID:216159-1780594200-1780601400@www.architecture.com.au
SUMMARY:Success in Architectural Practice with Dr Mark Jones
DESCRIPTION:Dr Mark Jones LFRAIA is a highly regarded Australian architect whose career integrates Director roles in small and large practice\, institutional leadership\, and advanced academic teaching and research at the University of Queensland\, School of Architecture\, Design and Planning. Mark’s new book\, ‘Success in Architectural Practice’ sets out the simple\, yet profound proposition that genuine success as an architect is founded on three mutually reinforcing pillars: Excellence\, Happiness and Profit.
URL:https://www.architecture.com.au/event/success-in-architectural-practice-with-dr-mark-jones-2
CATEGORIES:CPD Events (Face-to-face),Networking
ATTACH;FMTTYPE=image/jpeg:https://www.architecture.com.au/wp-content/uploads/untitled-design-3-3-18.jpg
END:VEVENT
BEGIN:VEVENT
DTSTART;TZID=Australia/Adelaide:20260627T180000
DTEND;TZID=Australia/Adelaide:20260627T220000
DTSTAMP:20260424T123630
CREATED:20260420T003356Z
LAST-MODIFIED:20260420T003356Z
UID:215521-1782583200-1782597600@www.architecture.com.au
SUMMARY:2026 NT ARCHITECTURE AWARDS
DESCRIPTION:Major event in the NT Architecture calendar as we announce the winners of the 2026 NT Architecture Awards and other prestigious prizes and Awards.
URL:https://www.architecture.com.au/event/2026-nt-architecture-awards
CATEGORIES:Awards
ATTACH;FMTTYPE=image/jpeg:https://www.architecture.com.au/wp-content/uploads/nt26awards-11.jpg
END:VEVENT
BEGIN:VEVENT
DTSTART;TZID=Australia/Melbourne:20261029T080000
DTEND;TZID=Australia/Melbourne:20261101T180000
DTSTAMP:20260424T123630
CREATED:20260424T003134Z
LAST-MODIFIED:20260424T003134Z
UID:200854-1793260800-1793556000@www.architecture.com.au
SUMMARY:Australian Architecture Conference 2026
DESCRIPTION:
URL:https://www.architecture.com.au/event/australian-architecture-conference-2026
CATEGORIES:Conferences
ATTACH;FMTTYPE=image/jpeg:https://www.architecture.com.au/wp-content/uploads/picture1-144.jpg
END:VEVENT
BEGIN:VEVENT
DTSTART;TZID=Australia/Melbourne:20261107T100000
DTEND;TZID=Australia/Melbourne:20261108T160000
DTSTAMP:20260424T123631
CREATED:20260420T003629Z
LAST-MODIFIED:20260420T003629Z
UID:216059-1794045600-1794153600@www.architecture.com.au
SUMMARY:Open House Hobart 2026
DESCRIPTION:Open House Hobart is returning in 2026! Get out your thickest black pen and mark in your calendar – Saturday 7 + Sunday 8 November. Stay tuned for more details!
URL:https://www.architecture.com.au/event/open-house-hobart-2026
CATEGORIES:Open House Hobart
ATTACH;FMTTYPE=image/jpeg:https://www.architecture.com.au/wp-content/uploads/oh-hobart-saturday-34-900w-x-600h-3.jpg
END:VEVENT
END:VCALENDAR