BEGIN:VCALENDAR
VERSION:2.0
PRODID:-//Australian Institute of Architects - ECPv6.15.12.2//NONSGML v1.0//EN
CALSCALE:GREGORIAN
METHOD:PUBLISH
X-WR-CALNAME:Australian Institute of Architects
X-ORIGINAL-URL:https://www.architecture.com.au
X-WR-CALDESC:Events for Australian Institute of Architects
REFRESH-INTERVAL;VALUE=DURATION:PT1H
X-Robots-Tag:noindex
X-PUBLISHED-TTL:PT1H
BEGIN:VTIMEZONE
TZID:Australia/Melbourne
BEGIN:STANDARD
TZOFFSETFROM:+1100
TZOFFSETTO:+1000
TZNAME:AEST
DTSTART:20210403T160000
END:STANDARD
BEGIN:DAYLIGHT
TZOFFSETFROM:+1000
TZOFFSETTO:+1100
TZNAME:AEDT
DTSTART:20211002T160000
END:DAYLIGHT
BEGIN:STANDARD
TZOFFSETFROM:+1100
TZOFFSETTO:+1000
TZNAME:AEST
DTSTART:20220402T160000
END:STANDARD
BEGIN:DAYLIGHT
TZOFFSETFROM:+1000
TZOFFSETTO:+1100
TZNAME:AEDT
DTSTART:20221001T160000
END:DAYLIGHT
BEGIN:STANDARD
TZOFFSETFROM:+1100
TZOFFSETTO:+1000
TZNAME:AEST
DTSTART:20230401T160000
END:STANDARD
BEGIN:DAYLIGHT
TZOFFSETFROM:+1000
TZOFFSETTO:+1100
TZNAME:AEDT
DTSTART:20230930T160000
END:DAYLIGHT
END:VTIMEZONE
BEGIN:VEVENT
DTSTART;TZID=Australia/Melbourne:20220318T180000
DTEND;TZID=Australia/Melbourne:20220320T170000
DTSTAMP:20260423T160259
CREATED:20220118T004903Z
LAST-MODIFIED:20220222T013019Z
UID:37596-1647626400-1647795600@www.architecture.com.au
SUMMARY:Symposium: Lost Opportunities
DESCRIPTION:Join us as an outstanding group of speakers discuss projects that were never realised and how they have influenced and affected our communities.
URL:https://www.architecture.com.au/event/symposium-lost-opportunities
CATEGORIES:Conferences,Networking
ATTACH;FMTTYPE=image/png:https://www.architecture.com.au/wp-content/uploads/AIASYMPOSIUM2021_LAUNCH_EDM-New-MARCH-Dates.png
END:VEVENT
END:VCALENDAR