BEGIN:VCALENDAR
VERSION:2.0
PRODID:-//Australian Institute of Architects - ECPv6.15.12.2//NONSGML v1.0//EN
CALSCALE:GREGORIAN
METHOD:PUBLISH
X-WR-CALNAME:Australian Institute of Architects
X-ORIGINAL-URL:https://www.architecture.com.au
X-WR-CALDESC:Events for Australian Institute of Architects
REFRESH-INTERVAL;VALUE=DURATION:PT1H
X-Robots-Tag:noindex
X-PUBLISHED-TTL:PT1H
BEGIN:VTIMEZONE
TZID:Australia/Sydney
BEGIN:STANDARD
TZOFFSETFROM:+1100
TZOFFSETTO:+1000
TZNAME:AEST
DTSTART:20250405T160000
END:STANDARD
BEGIN:DAYLIGHT
TZOFFSETFROM:+1000
TZOFFSETTO:+1100
TZNAME:AEDT
DTSTART:20251004T160000
END:DAYLIGHT
BEGIN:STANDARD
TZOFFSETFROM:+1100
TZOFFSETTO:+1000
TZNAME:AEST
DTSTART:20260404T160000
END:STANDARD
BEGIN:DAYLIGHT
TZOFFSETFROM:+1000
TZOFFSETTO:+1100
TZNAME:AEDT
DTSTART:20261003T160000
END:DAYLIGHT
BEGIN:STANDARD
TZOFFSETFROM:+1100
TZOFFSETTO:+1000
TZNAME:AEST
DTSTART:20270403T160000
END:STANDARD
BEGIN:DAYLIGHT
TZOFFSETFROM:+1000
TZOFFSETTO:+1100
TZNAME:AEDT
DTSTART:20271002T160000
END:DAYLIGHT
END:VTIMEZONE
BEGIN:VTIMEZONE
TZID:Australia/Melbourne
BEGIN:STANDARD
TZOFFSETFROM:+1100
TZOFFSETTO:+1000
TZNAME:AEST
DTSTART:20250405T160000
END:STANDARD
BEGIN:DAYLIGHT
TZOFFSETFROM:+1000
TZOFFSETTO:+1100
TZNAME:AEDT
DTSTART:20251004T160000
END:DAYLIGHT
BEGIN:STANDARD
TZOFFSETFROM:+1100
TZOFFSETTO:+1000
TZNAME:AEST
DTSTART:20260404T160000
END:STANDARD
BEGIN:DAYLIGHT
TZOFFSETFROM:+1000
TZOFFSETTO:+1100
TZNAME:AEDT
DTSTART:20261003T160000
END:DAYLIGHT
BEGIN:STANDARD
TZOFFSETFROM:+1100
TZOFFSETTO:+1000
TZNAME:AEST
DTSTART:20270403T160000
END:STANDARD
BEGIN:DAYLIGHT
TZOFFSETFROM:+1000
TZOFFSETTO:+1100
TZNAME:AEDT
DTSTART:20271002T160000
END:DAYLIGHT
END:VTIMEZONE
BEGIN:VTIMEZONE
TZID:Australia/Eucla
BEGIN:STANDARD
TZOFFSETFROM:+0845
TZOFFSETTO:+0845
TZNAME:+0845
DTSTART:20250101T000000
END:STANDARD
END:VTIMEZONE
BEGIN:VTIMEZONE
TZID:Australia/Adelaide
BEGIN:STANDARD
TZOFFSETFROM:+1030
TZOFFSETTO:+0930
TZNAME:ACST
DTSTART:20250405T163000
END:STANDARD
BEGIN:DAYLIGHT
TZOFFSETFROM:+0930
TZOFFSETTO:+1030
TZNAME:ACDT
DTSTART:20251004T163000
END:DAYLIGHT
BEGIN:STANDARD
TZOFFSETFROM:+1030
TZOFFSETTO:+0930
TZNAME:ACST
DTSTART:20260404T163000
END:STANDARD
BEGIN:DAYLIGHT
TZOFFSETFROM:+0930
TZOFFSETTO:+1030
TZNAME:ACDT
DTSTART:20261003T163000
END:DAYLIGHT
BEGIN:STANDARD
TZOFFSETFROM:+1030
TZOFFSETTO:+0930
TZNAME:ACST
DTSTART:20270403T163000
END:STANDARD
BEGIN:DAYLIGHT
TZOFFSETFROM:+0930
TZOFFSETTO:+1030
TZNAME:ACDT
DTSTART:20271002T163000
END:DAYLIGHT
END:VTIMEZONE
BEGIN:VEVENT
DTSTART;TZID=Australia/Sydney:20260429T180000
DTEND;TZID=Australia/Sydney:20260429T210000
DTSTAMP:20260423T175149
CREATED:20260423T053021Z
LAST-MODIFIED:20260423T053021Z
UID:216731-1777485600-1777496400@www.architecture.com.au
SUMMARY:Cheers w/ Peers - EmAGN ACT
DESCRIPTION:Cheers with Peers – An open invite to have a drink with the ACT EmAGN Committee where we will be sharing updates on current initiatives.
URL:https://www.architecture.com.au/event/cheers-w-peers-emagn-act-2
CATEGORIES:Awards
ATTACH;FMTTYPE=image/jpeg:https://www.architecture.com.au/wp-content/uploads/cheers-with-peers-78.jpg
END:VEVENT
BEGIN:VEVENT
DTSTART;TZID=Australia/Melbourne:20260501T180000
DTEND;TZID=Australia/Melbourne:20260501T220000
DTSTAMP:20260423T175149
CREATED:20260420T003421Z
LAST-MODIFIED:20260420T003421Z
UID:204579-1777658400-1777672800@www.architecture.com.au
SUMMARY:2026 GREATER BRISBANE REGIONAL AWARDS
DESCRIPTION:Join us at the Rose Room\, Cloudland to celebrate the 2026 Greater Brisbane Regional Awards! Raise a glass to the best architecture Greater Brisbane has to offer as we come together to recognise the incredible work shaping our city.
URL:https://www.architecture.com.au/event/2026-greater-brisbane-regional-awards
CATEGORIES:Awards,Networking
ATTACH;FMTTYPE=image/jpeg:https://www.architecture.com.au/wp-content/uploads/gbne-event-lock-up-21.jpg
END:VEVENT
BEGIN:VEVENT
DTSTART;TZID=Australia/Eucla:20260505T173000
DTEND;TZID=Australia/Eucla:20260505T193000
DTSTAMP:20260423T175149
CREATED:20260412T053817Z
LAST-MODIFIED:20260412T053817Z
UID:216071-1778002200-1778009400@www.architecture.com.au
SUMMARY:Opening of WA Architecture Awards Exhibition of Entries
DESCRIPTION:Celebrate the official opening of the 2026 WA Architecture Awards Exhibition of Entries!
URL:https://www.architecture.com.au/event/opening-of-wa-architecture-awards-exhibition-of-entries-2
CATEGORIES:Awards,Networking
ATTACH;FMTTYPE=image/jpeg:https://www.architecture.com.au/wp-content/uploads/wa260505.jpg
END:VEVENT
BEGIN:VEVENT
DTSTART;TZID=Australia/Melbourne:20260515T180000
DTEND;TZID=Australia/Melbourne:20260515T220000
DTSTAMP:20260423T175149
CREATED:20260420T003446Z
LAST-MODIFIED:20260420T003446Z
UID:215754-1778868000-1778882400@www.architecture.com.au
SUMMARY:2026 DARLING DOWNS & WEST MORETON REGIONAL AWARDS
DESCRIPTION:Join us at Fitzy’s to celebrate the 2026 Darling Downs and West Moreton Regional Awards! Raise a glass to the best architecture the region has to offer as we come together to recognise the incredible work shaping our community.
URL:https://www.architecture.com.au/event/2026-darling-downs-west-moreton-regional-awards
CATEGORIES:Awards,Networking
ATTACH;FMTTYPE=image/jpeg:https://www.architecture.com.au/wp-content/uploads/ddwm-lock-up-4.jpg
END:VEVENT
BEGIN:VEVENT
DTSTART;TZID=Australia/Melbourne:20260515T180000
DTEND;TZID=Australia/Melbourne:20260515T220000
DTSTAMP:20260423T175149
CREATED:20260420T003452Z
LAST-MODIFIED:20260420T003452Z
UID:215757-1778868000-1778882400@www.architecture.com.au
SUMMARY:2026 NORTH QUEENSLAND REGIONAL AWARDS
DESCRIPTION:Join us at Tiny Mountain to celebrate the 2026 North Queensland Regional Awards! Raise a glass to the best architecture the region has to offer as we come together to recognise the incredible work shaping our community.
URL:https://www.architecture.com.au/event/2026-north-queensland-regional-awards
CATEGORIES:Awards,Networking
ATTACH;FMTTYPE=image/jpeg:https://www.architecture.com.au/wp-content/uploads/nq-lock-up-4.jpg
END:VEVENT
BEGIN:VEVENT
DTSTART;TZID=Australia/Melbourne:20260519T180000
DTEND;TZID=Australia/Melbourne:20260519T200000
DTSTAMP:20260423T175149
CREATED:20260420T003350Z
LAST-MODIFIED:20260420T003350Z
UID:216774-1779213600-1779220800@www.architecture.com.au
SUMMARY:Regional Chats Newcastle | Anthrosite and Muci
DESCRIPTION:Our next Regional Chat event in Newcastle will include presentations from Dana Hutchinson and Mark Spence of Anthrosite and Steani Cilliers and Chris Mullaney of Muci. These events are a chance to discuss ideas and connect with other peers in the industry.
URL:https://www.architecture.com.au/event/regional-chats-newcastle-anthrosite-and-muci
CATEGORIES:Awards,Networking
ATTACH;FMTTYPE=image/jpeg:https://www.architecture.com.au/wp-content/uploads/regional-chats_muci_01-clay-house.jpg
END:VEVENT
BEGIN:VEVENT
DTSTART;TZID=Australia/Melbourne:20260521T180000
DTEND;TZID=Australia/Melbourne:20260521T193000
DTSTAMP:20260423T175149
CREATED:20260420T003623Z
LAST-MODIFIED:20260420T003623Z
UID:216056-1779386400-1779391800@www.architecture.com.au
SUMMARY:2026 Tasmanian Architecture Awards Exhibition | Hobart
DESCRIPTION:Join us for the launch of the 2026 Tasmanian Architecture Awards Exhibition at Brooke Street Pier in Hobart! View all the entries in the 2026 Tasmanian Architecture Awards and celebrate with colleagues.
URL:https://www.architecture.com.au/event/2026-tasmanian-architecture-awards-exhibition-hobart
CATEGORIES:Awards
ATTACH;FMTTYPE=image/jpeg:https://www.architecture.com.au/wp-content/uploads/NinaHamilton-TasmanianPhotographer-2019AIAAwardsExhibition-LowRes-49-531.jpg
END:VEVENT
BEGIN:VEVENT
DTSTART;TZID=Australia/Melbourne:20260522T163000
DTEND;TZID=Australia/Melbourne:20260522T193000
DTSTAMP:20260423T175149
CREATED:20260420T003502Z
LAST-MODIFIED:20260420T003502Z
UID:216739-1779467400-1779478200@www.architecture.com.au
SUMMARY:2026 CENTRAL QUEENSLAND REGIONAL AWARDS
DESCRIPTION:Join us at the East Hall\, Rockhampton to celebrate the 2026 Central Queensland Regional Awards! Raise a glass to the best architecture the region has to offer as we come together to recognise the incredible work shaping our community.
URL:https://www.architecture.com.au/event/2026-central-queensland-regional-awards
CATEGORIES:Awards,Networking
ATTACH;FMTTYPE=image/jpeg:https://www.architecture.com.au/wp-content/uploads/cq-awards-banner-1.jpg
END:VEVENT
BEGIN:VEVENT
DTSTART;TZID=Australia/Melbourne:20260522T180000
DTEND;TZID=Australia/Melbourne:20260522T220000
DTSTAMP:20260423T175149
CREATED:20260420T003408Z
LAST-MODIFIED:20260420T003409Z
UID:204573-1779472800-1779487200@www.architecture.com.au
SUMMARY:2026 GOLD COAST/NORTHERN RIVERS REGIONAL AWARDS
DESCRIPTION:Join us at the Mondrian Gold Coast to celebrate the 2026 Gold Coast/Northern Rivers Regional Awards! Raise a glass to the best architecture the Gold Coast and Northern Rivers has to offer as we come together to recognise the incredible work shaping our region.
URL:https://www.architecture.com.au/event/2026-gold-coast-northern-rivers-regional-awards
CATEGORIES:Awards,Networking
ATTACH;FMTTYPE=image/jpeg:https://www.architecture.com.au/wp-content/uploads/gcnr-event-lock-up-22.jpg
END:VEVENT
BEGIN:VEVENT
DTSTART;TZID=Australia/Melbourne:20260529T173000
DTEND;TZID=Australia/Melbourne:20260529T213000
DTSTAMP:20260423T175149
CREATED:20260420T003516Z
LAST-MODIFIED:20260420T003516Z
UID:216777-1780075800-1780090200@www.architecture.com.au
SUMMARY:2026 SUNSHINE COAST REGIONAL AWARDS
DESCRIPTION:Join us at Library+ Caloundra to celebrate the 2026Sunshine Coast Regional Awards! Raise a glass to the best architecture the Sunshine Coast has to offer as we come together to recognise the incredible work shaping our region.
URL:https://www.architecture.com.au/event/2026-sunshine-coast-regional-awards
CATEGORIES:Awards,Networking
ATTACH;FMTTYPE=image/jpeg:https://www.architecture.com.au/wp-content/uploads/sc-lock-up.jpg
END:VEVENT
BEGIN:VEVENT
DTSTART;TZID=Australia/Melbourne:20260529T180000
DTEND;TZID=Australia/Melbourne:20260529T220000
DTSTAMP:20260423T175149
CREATED:20260420T003508Z
LAST-MODIFIED:20260420T003508Z
UID:216742-1780077600-1780092000@www.architecture.com.au
SUMMARY:2026 FAR NORTH QUEENSLAND REGIONAL AWARDS
DESCRIPTION:Join us at Hemingway’s Brewery to celebrate the 2026 Far North Queensland Regional Awards! Raise a glass to the best architecture the region has to offer as we come together to recognise the incredible work shaping our community.
URL:https://www.architecture.com.au/event/2026-far-north-queensland-regional-awards
CATEGORIES:Awards,Networking
ATTACH;FMTTYPE=image/jpeg:https://www.architecture.com.au/wp-content/uploads/fnq-lock-up-1.jpg
END:VEVENT
BEGIN:VEVENT
DTSTART;TZID=Australia/Adelaide:20260627T180000
DTEND;TZID=Australia/Adelaide:20260627T220000
DTSTAMP:20260423T175149
CREATED:20260420T003356Z
LAST-MODIFIED:20260420T003356Z
UID:215521-1782583200-1782597600@www.architecture.com.au
SUMMARY:2026 NT ARCHITECTURE AWARDS
DESCRIPTION:Major event in the NT Architecture calendar as we announce the winners of the 2026 NT Architecture Awards and other prestigious prizes and Awards.
URL:https://www.architecture.com.au/event/2026-nt-architecture-awards
CATEGORIES:Awards
ATTACH;FMTTYPE=image/jpeg:https://www.architecture.com.au/wp-content/uploads/nt26awards-11.jpg
END:VEVENT
END:VCALENDAR